BEGIN:VCALENDAR
VERSION:2.0
PRODID:-//hacksw/handcal//NONSGML v1.0//EN
BEGIN:VEVENT
UID:20170204T173000Z-TheGobblersWillWalktheWalk,WhenYouTalktheTalk@www.greatamericanoutdoorshow.org
DTSTAMP:20260422T085837Z
DTSTART:20170204T173000Z
DTEND:20170204T183000Z
SUMMARY:The Gobblers Will Walk the Walk, When You Talk the Talk
DESCRIPTION:Learn tips and tricks to make you a better turkey caller and hunter
LOCATION:Seminar Room #3
END:VEVENT
END:VCALENDAR
