BEGIN:VCALENDAR
VERSION:2.0
PRODID:-//hacksw/handcal//NONSGML v1.0//EN
BEGIN:VEVENT
UID:20170210T190000Z-TheGobblersWillWalktheWalk,WhenYouTalktheTalk@www.greatamericanoutdoorshow.org
DTSTAMP:20260422T085549Z
DTSTART:20170210T190000Z
DTEND:20170210T200000Z
SUMMARY:The Gobblers Will Walk the Walk, When You Talk the Talk
DESCRIPTION:Learn tips and tricks to make you a better turkey caller and hunter
LOCATION:Seminar Room #1
END:VEVENT
END:VCALENDAR
