BEGIN:VCALENDAR
VERSION:2.0
PRODID:-//hacksw/handcal//NONSGML v1.0//EN
BEGIN:VEVENT
UID:20170208T163000Z-PartneringwithYourDog@www.greatamericanoutdoorshow.org
DTSTAMP:20260422T110245Z
DTSTART:20170208T163000Z
DTEND:20170208T173000Z
SUMMARY:Partnering with Your Dog
DESCRIPTION:Learn more about the Silent Command System of training
LOCATION:Small Arena
END:VEVENT
END:VCALENDAR
