BEGIN:VCALENDAR
VERSION:2.0
PRODID:-//hacksw/handcal//NONSGML v1.0//EN
BEGIN:VEVENT
UID:20170212T193000Z-PartneringwithYourDog@www.greatamericanoutdoorshow.org
DTSTAMP:20260422T110041Z
DTSTART:20170212T193000Z
DTEND:20170212T203000Z
SUMMARY:Partnering with Your Dog
DESCRIPTION:Learn more about the Silent Command System of training
LOCATION:Small Arena
END:VEVENT
END:VCALENDAR
