BEGIN:VCALENDAR
VERSION:2.0
PRODID:-//hacksw/handcal//NONSGML v1.0//EN
BEGIN:VEVENT
UID:20170206T200000Z-CelebrityAppearance:MelissaBachman@www.greatamericanoutdoorshow.org
DTSTAMP:20260422T103845Z
DTSTART:20170206T200000Z
DTEND:20170206T210000Z
SUMMARY:Celebrity Appearance: Melissa Bachman
DESCRIPTION:Autograph Signing
LOCATION:MyOutdoorTV Booth #6604
END:VEVENT
END:VCALENDAR
