BEGIN:VCALENDAR
VERSION:2.0
PRODID:-//hacksw/handcal//NONSGML v1.0//EN
BEGIN:VEVENT
UID:20170206T220000Z-CelebrityAppearance:MelissaBachman@www.greatamericanoutdoorshow.org
DTSTAMP:20260422T104017Z
DTSTART:20170206T220000Z
DTEND:20170206T230000Z
SUMMARY:Celebrity Appearance: Melissa Bachman
DESCRIPTION:Autograph Signing
LOCATION:Outdoor Sportsman Group Booth #463
END:VEVENT
END:VCALENDAR
