BEGIN:VCALENDAR
VERSION:2.0
PRODID:-//hacksw/handcal//NONSGML v1.0//EN
BEGIN:VEVENT
UID:20170206T190000Z-CelebrityAppearance:MelissaBachman@www.greatamericanoutdoorshow.org
DTSTAMP:20260422T121535Z
DTSTART:20170206T190000Z
DTEND:20170206T200000Z
SUMMARY:Celebrity Appearance: Melissa Bachman
DESCRIPTION:Autograph Signing
LOCATION:Engel Coolers Booth #2209
END:VEVENT
END:VCALENDAR
