BEGIN:VCALENDAR
VERSION:2.0
PRODID:-//hacksw/handcal//NONSGML v1.0//EN
BEGIN:VEVENT
UID:20170205T170000Z-CelebrityAppearance:Brian"Pigman"Quaca@www.greatamericanoutdoorshow.org
DTSTAMP:20260420T125628Z
DTSTART:20170205T170000Z
DTEND:20170205T190000Z
SUMMARY:Celebrity Appearance: Brian "Pigman" Quaca
DESCRIPTION:Autograph Signing
LOCATION:Outdoor Sportsman Group Booth #463
END:VEVENT
END:VCALENDAR
